BEGIN:VCALENDAR
VERSION:2.0
PRODID:-//Coteaux Païs - ECPv6.15.14//NONSGML v1.0//EN
CALSCALE:GREGORIAN
METHOD:PUBLISH
X-WR-CALNAME:Coteaux Païs
X-ORIGINAL-URL:https://www.coteaux-pais.net
X-WR-CALDESC:Évènements pour Coteaux Païs
REFRESH-INTERVAL;VALUE=DURATION:PT1H
X-Robots-Tag:noindex
X-PUBLISHED-TTL:PT1H
BEGIN:VTIMEZONE
TZID:Europe/Paris
BEGIN:DAYLIGHT
TZOFFSETFROM:+0100
TZOFFSETTO:+0200
TZNAME:CEST
DTSTART:20240331T010000
END:DAYLIGHT
BEGIN:STANDARD
TZOFFSETFROM:+0200
TZOFFSETTO:+0100
TZNAME:CET
DTSTART:20241027T010000
END:STANDARD
BEGIN:DAYLIGHT
TZOFFSETFROM:+0100
TZOFFSETTO:+0200
TZNAME:CEST
DTSTART:20250330T010000
END:DAYLIGHT
BEGIN:STANDARD
TZOFFSETFROM:+0200
TZOFFSETTO:+0100
TZNAME:CET
DTSTART:20251026T010000
END:STANDARD
BEGIN:DAYLIGHT
TZOFFSETFROM:+0100
TZOFFSETTO:+0200
TZNAME:CEST
DTSTART:20260329T010000
END:DAYLIGHT
BEGIN:STANDARD
TZOFFSETFROM:+0200
TZOFFSETTO:+0100
TZNAME:CET
DTSTART:20261025T010000
END:STANDARD
BEGIN:DAYLIGHT
TZOFFSETFROM:+0100
TZOFFSETTO:+0200
TZNAME:CEST
DTSTART:20270328T010000
END:DAYLIGHT
BEGIN:STANDARD
TZOFFSETFROM:+0200
TZOFFSETTO:+0100
TZNAME:CET
DTSTART:20271031T010000
END:STANDARD
END:VTIMEZONE
BEGIN:VEVENT
DTSTART;VALUE=DATE:20251009
DTEND;VALUE=DATE:20260621
DTSTAMP:20260424T112003
CREATED:20250630T133304Z
LAST-MODIFIED:20250630T135749Z
UID:9860-1759968000-1781999999@www.coteaux-pais.net
SUMMARY:Formation à l'accompagnement spirituel (FASP)
DESCRIPTION:FASP\n  \n  \n \n  \nPour télécharger le flyer : Cliquer ici\n  \n  \nPublic concerné : Pour les personnes appelées par leur communauté\, leur mouvement\, leur diocèse etc. à se former pour rendre le service ecclésial de l’accompagnement spirituel.\nMerci d’envoyer une lettre de présentation à : direction@coteaux-pais.net\nLe cycle de formation comprend 7 sessions d’octobre 2024 à juin 2025.\n\n\nDu jeudi 9 – 19h au samedi 11 octobre 2025 – 16h30\n\n\nDu vendredi 21 – 19h au dimanche 23 novembre 2025 – 16h30\n\n\nDu jeudi 11 – 19h au samedi 13 décembre 2025 – 16h30\n\n\nDu vendredi 9 – 19h au dimanche 11 janvier 2026 – 16h30\n\n\nDu jeudi 12 – 19h au samedi 14 mars 2026 – 16h30\n\n\nDu vendredi 29 – 19h au dimanche 31 mai 2026 – 16h30\n\n\nDu jeudi 18 – 19h au samedi 20 juin 2026 – 16h30\n\n\nA Notre-Dame de Livron\, Caylus (82)\n\nLa participation à une retraite de 8-10 jours\, individuellement accompagnée\, selon les Exercices spirituels de saint Ignace\, fait partie de la formation.\n 
URL:https://www.coteaux-pais.net/nos-propositions/formation-a-laccompagnement-spirituel-fasp/
LOCATION:Notre-Dame de Livron\, Notre-Dame de Livron\, Caylus\, 82160\, France
CATEGORIES:FASP,Formations
ATTACH;FMTTYPE=image/jpeg:https://www.coteaux-pais.net/wp-content/uploads/2025/06/Reuinion-FASP.jpg
ORGANIZER;CN="Coteaux-Pa%C3%AFs":MAILTO:secretariat@coteaux-pais.net
END:VEVENT
BEGIN:VEVENT
DTSTART;TZID=Europe/Paris:20260424T180000
DTEND;TZID=Europe/Paris:20260426T170000
DTSTAMP:20260424T112003
CREATED:20250828T144404Z
LAST-MODIFIED:20260205T083355Z
UID:10535-1777053600-1777222800@www.coteaux-pais.net
SUMMARY:Halte Spirituelle - Art et prière - Abbaye de Tournay (65)
DESCRIPTION:  \nWeek-end de prière avec des œuvres d’art et la parole de Dieu\, dans le silence\, avec des temps de prière personnelle guidée et des temps de partage. \n  \n \nVitrail de Chagall – Cathédrale de Metz \n  \nLa contemplation des créateurs est sans doute à part. Ils regardent et s’imprègnent\, sans capter ni vouloir posséder. Ils se laissent transformer par leur perception\, pour donner un nouveau fruit…\nCes fruits nous sont offerts. Ils ouvrent pour nous des pistes sensibles vers la prière et la rencontre. \n  \nInscription en ligne :\nVoir en bas de la page \n  \nInscription par courrier :\nMerci de télécharger le bulletin d’inscription (cliquer ici) à nous renvoyer rempli et signé avec un chèque de 60€ à l’adresse suivante : \nCoteaux-Païs\n9 rue Monplaisir\n31400 TOULOUSE\n  \nParticipation financière\nLe coût du week-end (par personne) : \n– L’hébergement et les repas :  100 € (tarif de 2024\, susceptible de modification) \n– Les frais d’accompagnement et d’animation : de 70 € à 110 € (selon vos possibilités) \nLa fourchette indiquée permet une entraide entre retraitants : ceux qui peuvent donner davantage facilitent l’inscription de tous pour que la question financière ne soit pas un obstacle pour avancer spirituellement. En cas de difficulté\, n’hésitez pas à l’évoquer dans votre lettre \nSoit un coût moyen de 190 € par personne \n\nAcompte obligatoire :\nPour confirmer votre inscription\, il vous sera demandé le versement d’un acompte de 60 € par personne (chèque ou paiement en ligne). Pour un règlement par chèque\, l’inscription ne sera confirmée qu’après réception du règlement. \nEn cas de désistement\, nous vous remercions de nous prévenir au plus tôt pour ne pas pénaliser les personnes en liste d’attente. \nMoins de 8 jours avant le début du week-end\, aucun remboursement n’est prévu. \n  \n  \n 
URL:https://www.coteaux-pais.net/nos-propositions/halte-spirituelle-art-et-priere-tournay-24-10-26/
LOCATION:Abbaye Notre Dame de Tournay\, 20 Av. de Toulouse\, Tournay\, 65190\, France
CATEGORIES:Halte spirituelle,Pour tous
ATTACH;FMTTYPE=image/webp:https://www.coteaux-pais.net/wp-content/uploads/2026/02/Cathedrale-St-Etienne-Vitraux-detail.webp
ORGANIZER;CN="Coteaux-Pa%C3%AFs":MAILTO:secretariat@coteaux-pais.net
END:VEVENT
BEGIN:VEVENT
DTSTART;TZID=Europe/Paris:20260424T180000
DTEND;TZID=Europe/Paris:20260430T090000
DTSTAMP:20260424T112003
CREATED:20250826T092453Z
LAST-MODIFIED:20260316T171439Z
UID:10388-1777053600-1777539600@www.coteaux-pais.net
SUMMARY:Retraite 5 jours selon les Exercices Spirituels – Dourgne (81)
DESCRIPTION:Attention : Retraite complète.\nVous avez cependant la possibilité de vous inscrire sur la liste d’attente par mail (secretariat@coteaux-pais.net) en précisant vos nom\, prénom et numéro de téléphone. Nous vous contacterons dans le cas où nous aurions des désistements.\n  \nVivre une retraite en silence avec la Parole de Dieu et selon les Exercices Spirituels ; cette retraite est proposée à des personnes ayant déjà vécu un retraite d’initiation. \nCoût de la retraite : à partir de 390 € (voir détail plus bas) \n \n  \nAbbaye d'En Calcat\n– Des temps d’enseignement et de prière en groupe\, \n– Des temps de prière personnelle et d’accompagnement individuel\, \n– Des journées rythmées par les prières du matin (Laudes) et l’Eucharistie quotidienne\, \n– Un climat de silence qui favorise l’écoute de la Parole résonner en soi\, \n  \nPour entreprendre un pèlerinage intérieur personnel… \nAfin de : \n– Goûter la présence d’un Dieu d’amour et mettre sa Parole au centre de sa vie\, \n– Découvrir la démarche des Exercices de saint Ignace et s’imprégner de sa spiritualité\, \n– Se poser\, faire le point\, orienter sa vie ou faire des choix importants. \n  \nInformations pratiques \n– Pensez à apporter : votre Bible\, un cahier\, des stylos\, des chaussures permettant la promenade. \n– Pour la bonne marche du groupe\, il est essentiel de loger et de prendre ses repas sur place. Des activités peuvent être prévues en soirée. \n– Pour prendre en compte votre éventuelle demande de régime alimentaire particulier\, un justificatif médical est nécessaire. Merci de l’adresser au moment de votre inscription à secretariat@coteaux-pais.net. \n– Les draps de lit et les serviettes de toilette sont fournis par le centre (Les sacs de couchage ne sont pas autorisés dans les chambres). \n– Vous pouvez emmener votre serviette de table et n’oubliez pas votre savon ou votre gel douche. \n– Pour tout régime alimentaire spécifique\, et dans la mesure des possibilités de nos lieux d’accueil\, un certificat médical vous sera demandé » \n  \nInscription en ligne : \nVoir tout en bas de la page.\n \n  \nInscription par courrier : \nMerci de télécharger le bulletin d’inscription (cliquer ici) à nous renvoyer rempli et signé avec un chèque de 80€ à l’adresse suivante : \nCoteaux-Païs\n9 rue Monplaisir\n31400 TOULOUSE\n  \nTarif (susceptible de modification en cours d’année) \nLe coût de la session comprend : \n– L’hébergement et les repas : 240 € \n– Les frais d’accompagnement et d’animation : de 150 € à 300 € \nLa fourchette indiquée permet une entraide entre retraitants : ceux qui peuvent donner davantage facilitent l’inscription de tous pour que la question financière ne soit pas un obstacle pour avancer spirituellement. En cas de difficulté\, n’hésitez pas à l’évoquer dans votre lettre \nSoit un coût à partir de 390 € par personne \n  \nAcompte obligatoire : \nPour confirmer votre inscription\, il vous sera demandé le versement d’un acompte de 80€ par personne (chèque ou paiement en ligne). Pour un règlement par chèque\, l’inscription ne sera confirmée qu’après réception du règlement. . \nEn cas de désistement\, nous vous remercions de nous prévenir au plus tôt pour ne pas pénaliser les personnes en liste d’attente. \nMoins de 8 jours avant le début de la retraite\, aucun remboursement n’est prévu. \n  \nDurée \n5 jours \n  \nSe rendre à L’abbaye d’En Calcat \nCliquez ici pour définir l’itinéraire à partir de votre position\, d’une adresse ou de votre domicile. \nPar le train\, la gare la plus proche : Castres (à 18 km de Dougne) \nAutres retraites d’Initiation de 5 jours \n\nDu vendredi 06 février – 18h au jeudi 12 février 2026 – 9h\nà l’Abbaye d’Échourgnac (24)\nDu samedi 24 juillet – 18h au vendredi 31 juillet 2026 – 9h\nau Couvent de Vaylats (46)\nDu vendredi 21 août – 18h au jeudi 27 août 2026 – 9h\nà l’Abbaye d’Urt-Belloc (64)\n\n  \nCatégories \nRetraite \n5 jours \nRetraite selon les exercices Spirituels
URL:https://www.coteaux-pais.net/nos-propositions/retraite-5-jours-selon-les-exercices-spirituels-dourgne-24-04-26/
LOCATION:Abbaye d’En Calcat\, En Calcat\, DOURGNE\, 81110\, France
CATEGORIES:5 jours,Éligible PASS Jeune,Pour tous,Retraite,Retraite selon les exercices
ATTACH;FMTTYPE=image/jpeg:https://www.coteaux-pais.net/wp-content/uploads/2024/07/Dourgne_En-Calcat-scaled.jpg
ORGANIZER;CN="Coteaux-Pa%C3%AFs":MAILTO:secretariat@coteaux-pais.net
END:VEVENT
BEGIN:VEVENT
DTSTART;TZID=Europe/Paris:20260424T180000
DTEND;TZID=Europe/Paris:20260503T090000
DTSTAMP:20260424T112003
CREATED:20250827T080412Z
LAST-MODIFIED:20260316T171415Z
UID:10445-1777053600-1777798800@www.coteaux-pais.net
SUMMARY:Retraite 8 jours selon les exercices - Dourgne (81)
DESCRIPTION:Attention : Retraite complète.\nVous avez cependant la possibilité de vous inscrire sur la liste d’attente par mail (secretariat@coteaux-pais.net)\nen précisant vos nom\, prénom et numéro de téléphone. Nous vous contacterons dans le cas où nous aurions des désistements.\n  \nVivre une retraite en silence avec la Parole de Dieu et selon les Exercices Spirituels ; cette retraite est proposée à des personnes ayant déjà vécu un retraite d’initiation. \nCoût de la retraite : à partir de 600 € (voir détail plus bas) \n  \n \nAbbaye d'En-Calcat\nPrendre le temps d’une retraite selon les Exercices Spirituels\, à la suite de Saint Ignace de Loyola : \nUne expérience ouverte à tous ! (jeunes ou adultes\, laïc\, prêtre\, religieux\, religieuse) \nUn temps de retraite pour rencontrer le Seigneur dans le silence\, dans la méditation de sa Parole. Un temps d’échange quotidien avec une personne qui accompagne ce chemin pour aider à reconnaître la présence de l’Esprit du Christ à l’œuvre dans sa vie. \nLa retraite comporte chaque jour plusieurs moments de prière personnelle à partir d’un texte de l’Écriture. Un climat de silence\, y compris pendant les repas\, permet à chacun de suivre son propre cheminement en respectant celui des autres. Seront vécus en commun chaque jour l’Eucharistie\, la prière du soir et un bref exposé sur la prière\, le discernement ou tel autre point de la vie spirituelle. \n  \nToutes les activités du Centre spirituel s’appuient sur la pédagogie ignatienne : la relecture de sa vie ou des événements éclairée par l’écoute de la Parole de Dieu. Cette manière de faire permet de discerner les forces de vie\, en soi ou dans le monde\, et d’avancer vers des choix plus libres et responsables à la suite du Christ. \n  \nInformations pratiques \n– Pensez à apporter : votre Bible\, un cahier\, des stylos\, des chaussures permettant la promenade. \n– Pour la bonne marche du groupe\, il est essentiel de loger et de prendre ses repas sur place. Des activités peuvent être prévues en soirée. \n– Pour prendre en compte votre éventuelle demande de régime alimentaire particulier\, un justificatif médical est nécessaire. Merci de l’adresser au moment de votre inscription à secretariat@coteaux-pais.net. \n– Les draps de lit et les serviettes de toilette sont fournis par le centre (Les sacs de couchage ne sont pas autorisés dans les chambres). \n– Vous pouvez emmener votre serviette de table et n’oubliez pas votre savon ou votre gel douche. \n– Pour tout régime alimentaire spécifique\, et dans la mesure des possibilités de nos lieux d’accueil\, un certificat médical vous sera demandé » \n  \nInscription en ligne : \nVoir tout en bas de la page.\n \n  \nInscription par courrier : \nMerci de télécharger le bulletin d’inscription (cliquer ici) à nous renvoyer rempli et signé avec un chèque de 80€ à l’adresse suivante : \nCoteaux-Païs\n9 rue Monplaisir\n31400 TOULOUSE\n  \nTarif (susceptible de modification en cours d’année) \nLe coût de la session comprend : \n– L’hébergement et les repas : 360 € \n– Les frais d’accompagnement et d’animation : de 240 € à 480 € \nLa fourchette indiquée permet une entraide entre retraitants : ceux qui peuvent donner davantage facilitent l’inscription de tous pour que la question financière ne soit pas un obstacle pour avancer spirituellement. En cas de difficulté\, n’hésitez pas à l’évoquer dans votre lettre \nSoit un coût à partir de 600 € par personne \n  \nAcompte obligatoire : \nPour confirmer votre inscription\, il vous sera demandé le versement d’un acompte de 80€ par personne (chèque ou paiement en ligne). Pour un règlement par chèque\, l’inscription ne sera confirmée qu’après réception du règlement. . \nEn cas de désistement\, nous vous remercions de nous prévenir au plus tôt pour ne pas pénaliser les personnes en liste d’attente. \nMoins de 8 jours avant le début de la retraite\, aucun remboursement n’est prévu. \n  \nDurée \n8 jours \n  \nSe rendre à l’Abbaye d’En-Calcat à Dourgne (81) \nCliquez ici pour définir l’itinéraire à partir de votre position\, d’une adresse ou de votre domicile. \nPar le train\, la gare la plus proche : ??? \nAutres retraites de 8 jours \n\nDu dimanche 19 octobre – 14h au dimanche 26 octobre 2025 -14h\nau Sanctuaire de Loyola (Espagne)\nDu vendredi 06 février -18h au dimanche 15 février 2026 – 9h\nà l’Abbaye d’Échourgnac (24)\nDu vendredi 20 février -18h au dimanche 1er mars 2026 – 9h\nau Couvent de Vaylats (46)\nDu vendredi 3 juillet – 18h au dimanche12 juillet 2026 – 9h\nau Couvent de Vaylats (46)\nDu  mardi 14 juillet – 18h au jeudi 23 juillet 2026 – 9h\nau Couvent de Vaylats (46)\nDu samedi 25 juillet – 18h au lundi 3 août 2026 – 9h\nau Couvent de Vaylats (46)\nDu vendredi 21 août – 18h au dimanche 30 août 2026 – 9h\nà l’Abbaye d’Urt-Belloc (64)\n\n  \nCatégories \nRetraite \n8 jours \nRetraite selon les exercices spirituels
URL:https://www.coteaux-pais.net/nos-propositions/retraite-8-jours-selon-les-exercices-dourgne-24-04-26/
LOCATION:Abbaye d’En Calcat\, En Calcat\, DOURGNE\, 81110\, France
CATEGORIES:8 jours,Retraite,Retraite selon les exercices
ATTACH;FMTTYPE=image/jpeg:https://www.coteaux-pais.net/wp-content/uploads/2024/07/Dourgne_En-Calcat-scaled.jpg
ORGANIZER;CN="Coteaux-Pa%C3%AFs":MAILTO:secretariat@coteaux-pais.net
END:VEVENT
END:VCALENDAR